BEGIN:VCALENDAR
VERSION:2.0
PRODID:-//CFCY - ECPv4.6.26//NONSGML v1.0//EN
CALSCALE:GREGORIAN
METHOD:PUBLISH
X-WR-CALNAME:CFCY
X-ORIGINAL-URL:https://cfcy.fm
X-WR-CALDESC:Events for CFCY
BEGIN:VEVENT
DTSTART;VALUE=DATE:20170401
DTEND;VALUE=DATE:20170402
DTSTAMP:20260421T083649
CREATED:20170309T183202Z
LAST-MODIFIED:20170309T183202Z
UID:1195-1491004800-1491091199@cfcy.fm
SUMMARY:50's 60's concert 'Why Do Fools Fall In Love?'
DESCRIPTION:SAVE THE DATE – April 1 at 7:00 pm – ‘Why Do Fools Fall In Love?’ 50’s\, 60’s\, 70’s music concert at Park Royal Church featuring The Blue Crystals\, Big Bopper\, Elvis and many more artists – wear your poodle skirts and saddle shoes\, bobby socks and bandanas! MC will be your own Ron Gillespie\, along with Minnie Pearl. Promises to be a fun and lively evening with a few surprises! For tickets call Church Office at 902-894-9656. $12 adults and $6 children 12 and under. Storm date is April 2. \n
URL:https://cfcy.fm/event/50s-60s-concert-why-do-fools-fall-in-love/
END:VEVENT
END:VCALENDAR