BEGIN:VCALENDAR
VERSION:2.0
PRODID:-//CFCY - ECPv4.6.26//NONSGML v1.0//EN
CALSCALE:GREGORIAN
METHOD:PUBLISH
X-WR-CALNAME:CFCY
X-ORIGINAL-URL:https://cfcy.fm
X-WR-CALDESC:Events for CFCY
BEGIN:VEVENT
DTSTART;TZID=America/Halifax:20190912T190000
DTEND;TZID=America/Halifax:20190912T190000
DTSTAMP:20260422T111948
CREATED:20190903T120711Z
LAST-MODIFIED:20190903T120711Z
UID:6811-1568314800-1568314800@cfcy.fm
SUMMARY:A TOAST TO DOWNTON ABBEY
DESCRIPTION:In advance of the release of the Downton Abbey movie\, Confederation Centre Public Library presents a talk by formally-trained English butler John Robertson who will give a behind-the-scenes glimpse into the world of Downton Abbey. As a certified protocol and etiquette expert\, he will also speak on the etiquette and rituals portrayed in Downton Abbey and their evolution and relevance to today.\nThursday\, September 12 at 7:00 p.m.\nConfederation Centre Public Library \n
URL:https://cfcy.fm/event/a-toast-to-downton-abbey/
END:VEVENT
END:VCALENDAR