BEGIN:VCALENDAR
VERSION:2.0
PRODID:-//CFCY - ECPv4.6.26//NONSGML v1.0//EN
CALSCALE:GREGORIAN
METHOD:PUBLISH
X-WR-CALNAME:CFCY
X-ORIGINAL-URL:https://cfcy.fm
X-WR-CALDESC:Events for CFCY
BEGIN:VEVENT
DTSTART;TZID=America/Halifax:20171104T110000
DTEND;TZID=America/Halifax:20171104T130000
DTSTAMP:20260422T131743
CREATED:20171020T122555Z
LAST-MODIFIED:20171020T122555Z
UID:2931-1509793200-1509800400@cfcy.fm
SUMMARY:Annual CWL Fall Tea and Bazaar
DESCRIPTION:Assumption Parish Centre\, Stratford \nLuncheon\, Crafts\, Home Cooking\, Plum Puddings\, Preserves and more! \nFree Admission! \n
URL:https://cfcy.fm/event/annual-cwl-fall-tea-and-bazaar/
END:VEVENT
END:VCALENDAR