BEGIN:VCALENDAR
VERSION:2.0
PRODID:-//CFCY - ECPv4.6.26//NONSGML v1.0//EN
CALSCALE:GREGORIAN
METHOD:PUBLISH
X-WR-CALNAME:CFCY
X-ORIGINAL-URL:https://cfcy.fm
X-WR-CALDESC:Events for CFCY
BEGIN:VEVENT
DTSTART;TZID=America/Halifax:20190316T210000
DTEND;TZID=America/Halifax:20190316T210000
DTSTAMP:20260422T050323
CREATED:20190313T124717Z
LAST-MODIFIED:20190313T124717Z
UID:5866-1552770000-1552770000@cfcy.fm
SUMMARY:Benefit Dance for Jared Smith's Family
DESCRIPTION:March 16th @ Murphy’s Centre. Featuring the Love Junkies from 10pm-1am Silent Auction from 9pm-11pm. $15@the door. Please come out and support a great cause! \n
URL:https://cfcy.fm/event/benefit-dance-for-jared-smiths-family/
CATEGORIES:Benefit
END:VEVENT
END:VCALENDAR