BEGIN:VCALENDAR
VERSION:2.0
PRODID:-//CFCY - ECPv4.6.26//NONSGML v1.0//EN
CALSCALE:GREGORIAN
METHOD:PUBLISH
X-WR-CALNAME:CFCY
X-ORIGINAL-URL:https://cfcy.fm
X-WR-CALDESC:Events for CFCY
BEGIN:VEVENT
DTSTART;TZID=America/Halifax:20230701T110000
DTEND;TZID=America/Halifax:20230701T150000
DTSTAMP:20260425T104243
CREATED:20230627T150529Z
LAST-MODIFIED:20230627T150529Z
UID:11332-1688209200-1688223600@cfcy.fm
SUMMARY:Canada Day
DESCRIPTION:Hey Islanders! The CFCY Call2Recycle Summer Cruiser is coming to Capital City Canada Day. \nLook for us at Victoria Park on Saturday\, July 1 for your chance to win\, while helping to protect the environment!  \nHelp keep batteries out of landfill. The first 50 people who bring us their used batteries for recycling will receive a ten dollar Amazon gift card.  \n
URL:https://cfcy.fm/event/canada-day/
ATTACH;FMTTYPE=image/jpeg:https://cfcy.fm/wp-content/uploads/sites/5/2023/06/canada-day-cfcy.jpg
END:VEVENT
END:VCALENDAR