BEGIN:VCALENDAR
VERSION:2.0
PRODID:-//CFCY - ECPv4.6.26//NONSGML v1.0//EN
CALSCALE:GREGORIAN
METHOD:PUBLISH
X-WR-CALNAME:CFCY
X-ORIGINAL-URL:https://cfcy.fm
X-WR-CALDESC:Events for CFCY
BEGIN:VEVENT
DTSTART;VALUE=DATE:20170427
DTEND;VALUE=DATE:20170428
DTSTAMP:20260422T083207
CREATED:20170330T163440Z
LAST-MODIFIED:20170330T163440Z
UID:1300-1493251200-1493337599@cfcy.fm
SUMMARY:Canada Rocks ON!
DESCRIPTION:North Rustico’s Star of the Sea Drama Group presents its annual “Use It or Lose It” variety show on Thursday\, April 27\, 2017 at 7pm at the Gulf Shore Consolidated School\, Hilltop Avenue\, North Rustico. This year\, the group is celebrating Canada’s 150th birthday by calling their show Canada Rocks ON! and paying tribute to well-known Canadian icons along with the usual mix of music\, song\, dance and skits. Entry is by donation and includes a wide variety of door prizes donated by local businesses\, 50/50\, and a light lunch. For more information contact Margaret Gladstone 902 620 1312 or Debra Montgomery 902 963 3194 \n
URL:https://cfcy.fm/event/canada-rocks-on/
END:VEVENT
END:VCALENDAR