BEGIN:VCALENDAR
VERSION:2.0
PRODID:-//CFCY - ECPv4.6.26//NONSGML v1.0//EN
CALSCALE:GREGORIAN
METHOD:PUBLISH
X-WR-CALNAME:CFCY
X-ORIGINAL-URL:https://cfcy.fm
X-WR-CALDESC:Events for CFCY
BEGIN:VEVENT
DTSTART;TZID=America/Halifax:20201028T170000
DTEND;TZID=America/Halifax:20201028T190000
DTSTAMP:20260424T073840
CREATED:20201027T120502Z
LAST-MODIFIED:20201027T120532Z
UID:8646-1603904400-1603911600@cfcy.fm
SUMMARY:CAP Concussion Awareness Program
DESCRIPTION:\n\n\nCAP Concussion Awareness Program invites you to a presentation entitled “Recognition\, Detection\, Recovery: Myths and Facts\,” by research coordinator Matthew Gallant. The event is Wednesday\, October 28 from 5 to 7pm in room 242 Don and Marion McDougall Hall. \nTo register click on upeicap1.eventbrite.ca. For more information\, contact concussion@upei.ca. \nThe venue is wheelchair accessible and stair-free. Due to COVID-19 restrictions\, sessions are limited to 30 people. \nWe will also be having the presentation live streamed for anyone that is not able to attend in person here is the link for anyone interested https://meet.google.com/rdv-tzhv-yxo\n\n\n\n
URL:https://cfcy.fm/event/cap-concussion-awareness-program/
END:VEVENT
END:VCALENDAR