BEGIN:VCALENDAR
VERSION:2.0
PRODID:-//CFCY - ECPv4.6.26//NONSGML v1.0//EN
CALSCALE:GREGORIAN
METHOD:PUBLISH
X-WR-CALNAME:CFCY
X-ORIGINAL-URL:https://cfcy.fm
X-WR-CALDESC:Events for CFCY
BEGIN:VEVENT
DTSTART;TZID=America/Halifax:20221119T100000
DTEND;TZID=America/Halifax:20221119T150000
DTSTAMP:20260420T100251
CREATED:20221116T130907Z
LAST-MODIFIED:20221116T130907Z
UID:10836-1668852000-1668870000@cfcy.fm
SUMMARY:Christmas Fair
DESCRIPTION:Join us for the first ever Donagh Regional Home & School Christmas Fair. \nThis fair is a fundraiser for our playground upgrades which we have been discussing with consultants since earlier this year. \nVendors include but not limited to baked goods\, knitted items\, meat and eggs\, photographer\, home crafts\, jewelry. \nThere will also be a fudge sale\, a chance to win your Christmas tree courtesy of Kellys Tree Farm in Fort Augustus. Refreshments available. \nPoinsettia fundraiser: https://www.vankampens.ca/pages/donagh-regional-school-fundraiser \n  \n  \nDonagh Regional H&S Christmas Fair | Facebook \n
URL:https://cfcy.fm/event/christmas-fair/
CATEGORIES:Craft Fair/ Bake Sale
END:VEVENT
END:VCALENDAR