BEGIN:VCALENDAR
VERSION:2.0
PRODID:-//CFCY - ECPv4.6.26//NONSGML v1.0//EN
CALSCALE:GREGORIAN
METHOD:PUBLISH
X-WR-CALNAME:CFCY
X-ORIGINAL-URL:https://cfcy.fm
X-WR-CALDESC:Events for CFCY
BEGIN:VEVENT
DTSTART;TZID=America/Halifax:20221112T100000
DTEND;TZID=America/Halifax:20221112T140000
DTSTAMP:20260421T094832
CREATED:20221110T112703Z
LAST-MODIFIED:20221110T112703Z
UID:10811-1668247200-1668261600@cfcy.fm
SUMMARY:Christmas Market
DESCRIPTION:Christmas Market on Saturday\, November 12th from 10-2 at the Eastern Kings Community Center (85 Munns Road). \nThere are over 25 vendors selling jewelry\, knitwear\, baked goods\, preserves\, ornaments\, cards\, soaps and lots more! \nAdmission is $2. See you there! \n
URL:https://cfcy.fm/event/christmas-market/
CATEGORIES:Craft Fair/ Bake Sale
END:VEVENT
END:VCALENDAR