BEGIN:VCALENDAR
VERSION:2.0
PRODID:-//CFCY - ECPv4.6.26//NONSGML v1.0//EN
CALSCALE:GREGORIAN
METHOD:PUBLISH
X-WR-CALNAME:CFCY
X-ORIGINAL-URL:https://cfcy.fm
X-WR-CALDESC:Events for CFCY
BEGIN:VEVENT
DTSTART;TZID=America/Halifax:20190525T080000
DTEND;TZID=America/Halifax:20190525T130000
DTSTAMP:20260426T030129
CREATED:20190524T123513Z
LAST-MODIFIED:20190524T123513Z
UID:6390-1558771200-1558789200@cfcy.fm
SUMMARY:Compost Sale Fundraiser
DESCRIPTION:St. Mark’s Presbyterian Church in Charlottetown is continuing its Compost Sale this Saturday\, May 25th.\,\n8 a.m. to 1 p.m. in the church parking lot located between Brackley Point Road and Pine Drive. Please support this great fundraiser and get some quality compost \n
URL:https://cfcy.fm/event/compost-sale-fundraiser/
END:VEVENT
END:VCALENDAR