BEGIN:VCALENDAR
VERSION:2.0
PRODID:-//CFCY - ECPv4.6.26//NONSGML v1.0//EN
CALSCALE:GREGORIAN
METHOD:PUBLISH
X-WR-CALNAME:CFCY
X-ORIGINAL-URL:https://cfcy.fm
X-WR-CALDESC:Events for CFCY
BEGIN:VEVENT
DTSTART;TZID=America/Halifax:20190523T190000
DTEND;TZID=America/Halifax:20190523T190000
DTSTAMP:20260422T100020
CREATED:20190513T124807Z
LAST-MODIFIED:20190513T124807Z
UID:6309-1558638000-1558638000@cfcy.fm
SUMMARY:EUCHRE CARD PARTY
DESCRIPTION:The North Shore Seniors\nInvites you to join us\n@ Roach Hall\n(Hills of Annand)\nTatamagouche\, NS \nMay 23\, 2019\n@ 7pm \nThis is our first one so we are gauging interest.\nEveryone welcome \n
URL:https://cfcy.fm/event/euchre-card-party/
END:VEVENT
END:VCALENDAR