BEGIN:VCALENDAR
VERSION:2.0
PRODID:-//CFCY - ECPv4.6.26//NONSGML v1.0//EN
CALSCALE:GREGORIAN
METHOD:PUBLISH
X-WR-CALNAME:CFCY
X-ORIGINAL-URL:https://cfcy.fm
X-WR-CALDESC:Events for CFCY
BEGIN:VEVENT
DTSTART;TZID=America/Halifax:20170604T130000
DTEND;TZID=America/Halifax:20170604T130000
DTSTAMP:20260422T124524
CREATED:20170509T140307Z
LAST-MODIFIED:20170509T140307Z
UID:1866-1496581200-1496581200@cfcy.fm
SUMMARY:Gutsy Walk for Crohn’s and Colitis
DESCRIPTION:Sunday June 4\, at the Seawalk Park in North Rustico. Registration begins at 1 pm\, walk 2 pm. To register\, donate\, or for online fundraising go to www.GutsyWalk2017/locations.  \nFor more information\, call 902-566-4217. \n
URL:https://cfcy.fm/event/gutsy-walk-for-crohns-and-colitis/
END:VEVENT
END:VCALENDAR