BEGIN:VCALENDAR
VERSION:2.0
PRODID:-//CFCY - ECPv4.6.26//NONSGML v1.0//EN
CALSCALE:GREGORIAN
METHOD:PUBLISH
X-WR-CALNAME:CFCY
X-ORIGINAL-URL:https://cfcy.fm
X-WR-CALDESC:Events for CFCY
BEGIN:VEVENT
DTSTART;TZID=America/Halifax:20181229T193000
DTEND;TZID=America/Halifax:20181229T193000
DTSTAMP:20260426T030044
CREATED:20181217T131731Z
LAST-MODIFIED:20181217T131731Z
UID:5447-1546111800-1546111800@cfcy.fm
SUMMARY:Helping Hands Band Jamboree
DESCRIPTION:St. Anthony’s Hall\nRoute 2\, Woodstock\nAdmission at the door.\nMusic\, fun and lunch. \n
URL:https://cfcy.fm/event/helping-hands-band-jamboree-10/
END:VEVENT
END:VCALENDAR