BEGIN:VCALENDAR
VERSION:2.0
PRODID:-//CFCY - ECPv4.6.26//NONSGML v1.0//EN
CALSCALE:GREGORIAN
METHOD:PUBLISH
X-WR-CALNAME:CFCY
X-ORIGINAL-URL:https://cfcy.fm
X-WR-CALDESC:Events for CFCY
BEGIN:VEVENT
DTSTART;TZID=America/Halifax:20170422T193000
DTEND;TZID=America/Halifax:20170422T193000
DTSTAMP:20260423T092631
CREATED:20170417T142613Z
LAST-MODIFIED:20170417T142613Z
UID:1557-1492889400-1492889400@cfcy.fm
SUMMARY: Helping Hands Band Jamboree
DESCRIPTION:St. Anthony’s Hall \, Route 2\, Woodstock \nAdmission at the door.\nMusic\, fun and lunch! \n
URL:https://cfcy.fm/event/helping-hands-band-jamboree-3/
END:VEVENT
END:VCALENDAR