BEGIN:VCALENDAR
VERSION:2.0
PRODID:-//CFCY - ECPv4.6.26//NONSGML v1.0//EN
CALSCALE:GREGORIAN
METHOD:PUBLISH
X-WR-CALNAME:CFCY
X-ORIGINAL-URL:https://cfcy.fm
X-WR-CALDESC:Events for CFCY
BEGIN:VEVENT
DTSTART;TZID=America/Halifax:20221203T090000
DTEND;TZID=America/Halifax:20221203T120000
DTSTAMP:20260421T015811
CREATED:20221116T131202Z
LAST-MODIFIED:20221116T131202Z
UID:10838-1670058000-1670068800@cfcy.fm
SUMMARY:Holiday Market
DESCRIPTION:Spring Park United church is holding a Holiday Market on Saturday\, Dec.3rd from 9am-noon in the Church Auditorium . Please use the Trafalgar Street entrance.\nIn addition to homemade baked goods\, jams\, jellies\, pickles\, and fudge\, there will be Christmas decorations\, games and puzzles\, crafts\, jewelry\, festive greenery and gently used gift items.\nPlease Bring Your Own Bag. \n
URL:https://cfcy.fm/event/holiday-market/
CATEGORIES:Craft Fair/ Bake Sale
END:VEVENT
END:VCALENDAR