BEGIN:VCALENDAR
VERSION:2.0
PRODID:-//CFCY - ECPv4.6.26//NONSGML v1.0//EN
CALSCALE:GREGORIAN
METHOD:PUBLISH
X-WR-CALNAME:CFCY
X-ORIGINAL-URL:https://cfcy.fm
X-WR-CALDESC:Events for CFCY
BEGIN:VEVENT
DTSTART;VALUE=DATE:20201101
DTEND;VALUE=DATE:20201102
DTSTAMP:20260424T073955
CREATED:20201030T185212Z
LAST-MODIFIED:20201030T185212Z
UID:8696-1604188800-1604275199@cfcy.fm
SUMMARY:Kirk On-Line Sale
DESCRIPTION:Great gifts for Christmas (or for yourself)! The Kirk Ceilidh has gone on line for this year. Bid on items like a tour of the North Shore in an antique Packard\, a 2 night stay in a beautiful Air BnB or a catered dinner\, legal services packages for wills and health directions\, decorative items\, puzzles\, handcrafts\, and of course baked goods! Check out our link https://www.facebook.com/events/348397983104580/?active_tab=discussion \n
URL:https://cfcy.fm/event/kirk-on-line-sale/
END:VEVENT
END:VCALENDAR