BEGIN:VCALENDAR
VERSION:2.0
PRODID:-//CFCY - ECPv4.6.26//NONSGML v1.0//EN
CALSCALE:GREGORIAN
METHOD:PUBLISH
X-WR-CALNAME:CFCY
X-ORIGINAL-URL:https://cfcy.fm
X-WR-CALDESC:Events for CFCY
BEGIN:VEVENT
DTSTART;TZID=America/Halifax:20190908T193000
DTEND;TZID=America/Halifax:20190908T193000
DTSTAMP:20260422T100531
CREATED:20190903T122037Z
LAST-MODIFIED:20190903T122037Z
UID:6821-1567971000-1567971000@cfcy.fm
SUMMARY:Lady Singers of our Century Concert
DESCRIPTION:Southwest River United Church will host the Lady Singers of our Century Concert Sunday\, Sept 8 starting at 7:30.   The church located at 12024\, Route 6 in Margate is wheel chair accessible.  There will be the sale of water and ice cream sandwiches at intermission.    Admission is $12 at the door which opens at 7:00 \n
URL:https://cfcy.fm/event/lady-singers-of-our-century-concert/
END:VEVENT
END:VCALENDAR