BEGIN:VCALENDAR
VERSION:2.0
PRODID:-//CFCY - ECPv4.6.26//NONSGML v1.0//EN
CALSCALE:GREGORIAN
METHOD:PUBLISH
X-WR-CALNAME:CFCY
X-ORIGINAL-URL:https://cfcy.fm
X-WR-CALDESC:Events for CFCY
BEGIN:VEVENT
DTSTART;VALUE=DATE:20190425
DTEND;VALUE=DATE:20190426
DTSTAMP:20260422T111913
CREATED:20190410T124158Z
LAST-MODIFIED:20190410T124158Z
UID:6080-1556150400-1556236799@cfcy.fm
SUMMARY:Miscouche Consolidated School Family Fun Night
DESCRIPTION:Miscouche Consolidated school is hosting a Family Fun Night on April 25. This is a Night for students and their families\, as well as members of the public to come out for lots of games and activities. This night is put on by the hard working staff at Miscouche. \n
URL:https://cfcy.fm/event/miscouche-consolidated-school-family-fun-night/
END:VEVENT
END:VCALENDAR