BEGIN:VCALENDAR
VERSION:2.0
PRODID:-//CFCY - ECPv4.6.26//NONSGML v1.0//EN
CALSCALE:GREGORIAN
METHOD:PUBLISH
X-WR-CALNAME:CFCY
X-ORIGINAL-URL:https://cfcy.fm
X-WR-CALDESC:Events for CFCY
BEGIN:VEVENT
DTSTART;TZID=America/Halifax:20190615T160000
DTEND;TZID=America/Halifax:20190615T180000
DTSTAMP:20260424T132852
CREATED:20190603T160150Z
LAST-MODIFIED:20190603T160150Z
UID:6448-1560614400-1560621600@cfcy.fm
SUMMARY:#NO PIPE Lobster Supper
DESCRIPTION:On Saturday June 15\, fishermen will hold a free lobster dinner as a thank you to community supporters. One thousand lobster dinners will be prepared\, and all #NO PIPE supporters are invited. The #NO PIPE Lobster Supper will take place from 4 pm to 6 pm\, Saturday June 15 at Pictou Landing First Nation gymnasium\, 43 Maple Street. Organized by the Northumberland Fishermen’s Association \n
URL:https://cfcy.fm/event/no-pipe-lobster-supper/
END:VEVENT
END:VCALENDAR