BEGIN:VCALENDAR
VERSION:2.0
PRODID:-//CFCY - ECPv4.6.26//NONSGML v1.0//EN
CALSCALE:GREGORIAN
METHOD:PUBLISH
X-WR-CALNAME:CFCY
X-ORIGINAL-URL:https://cfcy.fm
X-WR-CALDESC:Events for CFCY
BEGIN:VEVENT
DTSTART;TZID=America/Halifax:20170711T190000
DTEND;TZID=America/Halifax:20170711T190000
DTSTAMP:20260425T102054
CREATED:20170720T132953Z
LAST-MODIFIED:20170720T132953Z
UID:2346-1499799600-1499799600@cfcy.fm
SUMMARY:Painting in the Loft at the Northumberland Arena
DESCRIPTION:A great social evening of instructional painting with Island Artist Lorraine Vatcher. Designed similarly to the ever-popular “Art After Dark” type events\, we invite you to join us for great time! All skill levels are welcome – we are in this for a good time! Age 19+ event\, cash bar on site. Details will be available soon on our website https://www.northumberlandfisheriesfest.com. \n
URL:https://cfcy.fm/event/painting-in-the-loft-at-the-northumberland-arena/
END:VEVENT
END:VCALENDAR