BEGIN:VCALENDAR
VERSION:2.0
PRODID:-//CFCY - ECPv4.6.26//NONSGML v1.0//EN
CALSCALE:GREGORIAN
METHOD:PUBLISH
X-WR-CALNAME:CFCY
X-ORIGINAL-URL:https://cfcy.fm
X-WR-CALDESC:Events for CFCY
BEGIN:VEVENT
DTSTART;TZID=America/Halifax:20250404T190000
DTEND;TZID=America/Halifax:20250405T163000
DTSTAMP:20260421T064915
CREATED:20250317T124712Z
LAST-MODIFIED:20250317T124712Z
UID:12675-1743793200-1743870600@cfcy.fm
SUMMARY:PEI Fashion Weekend
DESCRIPTION:Get ready to unleash the ultimate style spectacle at PEI Fashion Weekend 2025!\nWe’re rallying the fashion community to ignite the scene and showcase the local designer talent on Prince Edward Island. This isn’t your average fashion event; it’s the undisputed ruler of style in PEI!\n\nOur fourth annual bash is turning up the heat on the catwalk\, promising a vibe you won’t find anywhere else. Feel the pulse of the event with electrifying entertainment from Craig Fair Productions\, setting the stage for a show that’s off the charts. The runway is about to explode with the fierce creations of local designers and retailers from every nook of Prince Edward Island\, and beyond.\n\nPEI Fashion Weekend is where the island’s fashion arts collide with the community\, unleashing an unforgettable evening that screams creativity. So\, grab your squad\, snag those tickets\, and let’s own the night at this spectacular event where EVERY BODY is MOVING\n
URL:https://cfcy.fm/event/pei-fashion-weekend/
CATEGORIES:Arts & Culture
ATTACH;FMTTYPE=image/jpeg:https://cfcy.fm/wp-content/uploads/sites/5/2025/03/Fashion.jpg
END:VEVENT
END:VCALENDAR