BEGIN:VCALENDAR
VERSION:2.0
PRODID:-//CFCY - ECPv4.6.26//NONSGML v1.0//EN
CALSCALE:GREGORIAN
METHOD:PUBLISH
X-WR-CALNAME:CFCY
X-ORIGINAL-URL:https://cfcy.fm
X-WR-CALDESC:Events for CFCY
BEGIN:VEVENT
DTSTART;VALUE=DATE:20240919
DTEND;VALUE=DATE:20240923
DTSTAMP:20260421T083518
CREATED:20240827T175635Z
LAST-MODIFIED:20240827T175715Z
UID:12151-1726704000-1727049599@cfcy.fm
SUMMARY:PEI International Shellfish Festival
DESCRIPTION:Set against the stunning backdrop of Prince Edward Island\, known for its pristine waters and abundant shellfish\, the Prince Edward Island Shellfish Festival brings together the freshest shellfish\, top culinary talents\, and East Coast entertainment. \nFor more details visit: https://peishellfish.com/ \n
URL:https://cfcy.fm/event/pei-international-shellfish-festival-3/
LOCATION:Charlottetown Event Grounds\, 360 Grafton St\, Charlottetown\, PE\, Canada
GEO:46.241211;-63.117089
X-APPLE-STRUCTURED-LOCATION;VALUE=URI;X-ADDRESS=Charlottetown Event Grounds 360 Grafton St Charlottetown PE Canada;X-APPLE-RADIUS=500;X-TITLE=360 Grafton St:geo:-63.117089,46.241211
ATTACH;FMTTYPE=image/jpeg:https://cfcy.fm/wp-content/uploads/sites/5/2024/08/shellfish-fest.jpg
END:VEVENT
END:VCALENDAR