BEGIN:VCALENDAR
VERSION:2.0
PRODID:-//CFCY - ECPv4.6.26//NONSGML v1.0//EN
CALSCALE:GREGORIAN
METHOD:PUBLISH
X-WR-CALNAME:CFCY
X-ORIGINAL-URL:https://cfcy.fm
X-WR-CALDESC:Events for CFCY
BEGIN:VEVENT
DTSTART;TZID=America/Halifax:20170422T170000
DTEND;TZID=America/Halifax:20170422T200000
DTSTAMP:20260423T013207
CREATED:20170411T132927Z
LAST-MODIFIED:20170411T132927Z
UID:1454-1492880400-1492891200@cfcy.fm
SUMMARY:PEI School of Rock Showcase
DESCRIPTION:The Rock-a-palooza: PEI Schools of Rock Showcase is the school concert event of the year featuring 12 rock bands from 10 different Island schools ranging from grades 4 to 12 and spanning from Tignish to Souris. This modern version of a school concert is in its 7th year and will take place at the Murphy Community Centre on April 22 in Charlottetown from 5:00 to 9:00. These bands will play some of your classic rock favorites\, modern hits\, and even their own original material. \nLong and McQuade Charlottetown will be on hand giving away door prizes throughout the night. Tickets for the door prizes will be available at the show and entry will be by donation. All money collected will go back to the event to help improve and sustain this wonderful opportunity for Island students. \n
URL:https://cfcy.fm/event/pei-school-of-rock-showcase/
LOCATION:Murphy’s Community Centre\, 200 Richmond St\, Charlottetown\, PE\, C1A1J2\, Canada
GEO:46.235042;-63.124763
X-APPLE-STRUCTURED-LOCATION;VALUE=URI;X-ADDRESS=Murphy’s Community Centre 200 Richmond St Charlottetown PE C1A1J2 Canada;X-APPLE-RADIUS=500;X-TITLE=200 Richmond St:geo:-63.124763,46.235042
END:VEVENT
END:VCALENDAR