BEGIN:VCALENDAR
VERSION:2.0
PRODID:-//CFCY - ECPv4.6.26//NONSGML v1.0//EN
CALSCALE:GREGORIAN
METHOD:PUBLISH
X-WR-CALNAME:CFCY
X-ORIGINAL-URL:https://cfcy.fm
X-WR-CALDESC:Events for CFCY
BEGIN:VEVENT
DTSTART;TZID=America/Halifax:20190608T173000
DTEND;TZID=America/Halifax:20190608T173000
DTSTAMP:20260423T084805
CREATED:20190521T144557Z
LAST-MODIFIED:20190521T144557Z
UID:6368-1560015000-1560015000@cfcy.fm
SUMMARY:Retirement Dinner - Rev. Kevin MacKenzie
DESCRIPTION:There will be a Roast Beef Dinner\, with entertainment\, honoring the retirement of Rev. Kevin MacKenzie\, to be held at Park Royal United Church gymnasium on Saturday\, June 8 at 5:30 pm. Tickets are $20.00 and are available by calling the Church Office at 902-894-9656 \n
URL:https://cfcy.fm/event/retirement-dinner-rev-kevin-mackenzie/
END:VEVENT
END:VCALENDAR