BEGIN:VCALENDAR
VERSION:2.0
PRODID:-//CFCY - ECPv4.6.26//NONSGML v1.0//EN
CALSCALE:GREGORIAN
METHOD:PUBLISH
X-WR-CALNAME:CFCY
X-ORIGINAL-URL:https://cfcy.fm
X-WR-CALDESC:Events for CFCY
BEGIN:VEVENT
DTSTART;TZID=America/Halifax:20210901T190000
DTEND;TZID=America/Halifax:20210901T190000
DTSTAMP:20260420T094604
CREATED:20210826T173207Z
LAST-MODIFIED:20210826T173207Z
UID:9926-1630522800-1630522800@cfcy.fm
SUMMARY:Summer Series Ceilidh
DESCRIPTION:The Summer Series Ceilidh continue at Winsloe Lions Hall Wednesday\, Sept 1\, starting at 7:00 pm.  Special guest\, country singer Maxine MacLennan\, a member of Treble With Girls will be joining Ian Hunter\, Peter Burke\, Brian Blacquiere\, Brian Knox and Judy Lowe.   There will be a 50/50 draw and canteen service available for your favourite beverage.  Admission is at the door which opens at 6:00 pm.   If you wish to reserve a ticket you can call 902-940-1217 or 902-894-9901.   Covid restrictions apply for up to 100. \n
URL:https://cfcy.fm/event/summer-series-ceilidh-4/
END:VEVENT
END:VCALENDAR