BEGIN:VCALENDAR
VERSION:2.0
PRODID:-//CFCY - ECPv4.6.26//NONSGML v1.0//EN
CALSCALE:GREGORIAN
METHOD:PUBLISH
X-WR-CALNAME:CFCY
X-ORIGINAL-URL:https://cfcy.fm
X-WR-CALDESC:Events for CFCY
BEGIN:VEVENT
DTSTART;TZID=America/Halifax:20191209T193000
DTEND;TZID=America/Halifax:20191209T193000
DTSTAMP:20260422T112912
CREATED:20191204T200851Z
LAST-MODIFIED:20191204T200851Z
UID:7367-1575919800-1575919800@cfcy.fm
SUMMARY:The Lady Singers Christmas Concert
DESCRIPTION:Winsloe United Church Ceilidh will host The Lady Singers Christmas Concert on Monday\, Dec 9\, starting  at 7:30 p.m.   Admission is $12 at the door with doors opening at 6:30 p.m.  There will be a light lunch served.   There is plenty of parking and the church is wheelchair accessible \n
URL:https://cfcy.fm/event/the-lady-singers-christmas-concert/
END:VEVENT
END:VCALENDAR