BEGIN:VCALENDAR
VERSION:2.0
PRODID:-//CFCY - ECPv4.6.26//NONSGML v1.0//EN
CALSCALE:GREGORIAN
METHOD:PUBLISH
X-WR-CALNAME:CFCY
X-ORIGINAL-URL:https://cfcy.fm
X-WR-CALDESC:Events for CFCY
BEGIN:VEVENT
DTSTART;VALUE=DATE:20231125
DTEND;VALUE=DATE:20231225
DTSTAMP:20260421T205948
CREATED:20231212T150454Z
LAST-MODIFIED:20231212T150454Z
UID:11565-1700870400-1703462399@cfcy.fm
SUMMARY:The Mistletoe Market
DESCRIPTION:Step into a holiday shopping haven with the inaugural Mistletoe Market\, a brand-new addition to the Charlottetown Christmas Festival! Nestled in the heart of Downtown Charlottetown on the Confederation Centre Plaza\, this boutique open-air market features eight whimsical huts\, each transformed into delightful little stores where a selection of local artisans will showcase their crafted goods to shop through in the spirit of the season. \nEvery weekend from Nov 24 – Dec 24\nFridays: 4 – 8pm\nSaturdays: 10am – 6pm\nSundays: 12 – 5pm \n
URL:https://cfcy.fm/event/the-mistletoe-market/
ATTACH;FMTTYPE=image/png:https://cfcy.fm/wp-content/uploads/sites/5/2023/12/2023-12-12-11-04-15-The-Mistletoe-Market-Discover-Charlottetown.png
END:VEVENT
END:VCALENDAR