BEGIN:VCALENDAR
VERSION:2.0
PRODID:-//CFCY - ECPv4.6.26//NONSGML v1.0//EN
CALSCALE:GREGORIAN
METHOD:PUBLISH
X-WR-CALNAME:CFCY
X-ORIGINAL-URL:https://cfcy.fm
X-WR-CALDESC:Events for CFCY
BEGIN:VEVENT
DTSTART;TZID=America/Halifax:20201107T090000
DTEND;TZID=America/Halifax:20201108T140000
DTSTAMP:20260423T114607
CREATED:20201015T164650Z
LAST-MODIFIED:20201015T164650Z
UID:8548-1604739600-1604844000@cfcy.fm
SUMMARY:Wheatley River Country Craft Fair
DESCRIPTION:For two days you can find us in our quaint and cozy community hall\, where we will have multiple vendors selling their goods such as; wood working\, homemade baking and preserves\, knits\, crafts\, paintings\, fresh greenery\, natural beeswax items\, rustic artwork and more. \nNothing beats wholesome gifts! We encourage you to shop local and support your Island communities.\nCost of admission is $2 and we will have 50/50 tickets available with a portion of the money going to a needy family in the Central Queens Elementary School area and the remainder going towards the upkeep of the Wheatley River Community Hall. \nSpace is limited\, if you’d like to reserve a table ($40) please email wheatleyriverwi@gmail.com\nMoney from the registration will go towards upkeep of the Wheatley River Community Hall. \n
URL:https://cfcy.fm/event/wheatley-river-country-craft-fair/
END:VEVENT
END:VCALENDAR