BEGIN:VCALENDAR
VERSION:2.0
PRODID:-//CFCY - ECPv4.6.26//NONSGML v1.0//EN
CALSCALE:GREGORIAN
METHOD:PUBLISH
X-WR-CALNAME:CFCY
X-ORIGINAL-URL:https://cfcy.fm
X-WR-CALDESC:Events for CFCY
BEGIN:VEVENT
DTSTART;TZID=America/Halifax:20190615T080000
DTEND;TZID=America/Halifax:20190615T110000
DTSTAMP:20260425T222239
CREATED:20190614T115132Z
LAST-MODIFIED:20190614T115132Z
UID:6495-1560585600-1560596400@cfcy.fm
SUMMARY:Yard Sale
DESCRIPTION:10 Juniper Dr. Sherwood. 8-11am \n
URL:https://cfcy.fm/event/yard-sale-2/
END:VEVENT
END:VCALENDAR