BEGIN:VCALENDAR
VERSION:2.0
PRODID:-//CFCY - ECPv4.6.26//NONSGML v1.0//EN
CALSCALE:GREGORIAN
METHOD:PUBLISH
X-WR-CALNAME:CFCY
X-ORIGINAL-URL:https://cfcy.fm
X-WR-CALDESC:Events for CFCY
BEGIN:VEVENT
DTSTART;TZID=America/Halifax:20190914T080000
DTEND;TZID=America/Halifax:20190914T110000
DTSTAMP:20260425T133751
CREATED:20190912T191908Z
LAST-MODIFIED:20190912T191908Z
UID:6869-1568448000-1568458800@cfcy.fm
SUMMARY:Yard Sale
DESCRIPTION:10 Juniper Dr. in Sherwood. \n
URL:https://cfcy.fm/event/yard-sale-3/
END:VEVENT
END:VCALENDAR