BEGIN:VCALENDAR
VERSION:2.0
PRODID:-//CFCY - ECPv4.6.26//NONSGML v1.0//EN
CALSCALE:GREGORIAN
METHOD:PUBLISH
X-WR-CALNAME:CFCY
X-ORIGINAL-URL:https://cfcy.fm
X-WR-CALDESC:Events for CFCY
BEGIN:VEVENT
DTSTART;TZID=America/Halifax:20171210T140000
DTEND;TZID=America/Halifax:20171210T140000
DTSTAMP:20260425T142436
CREATED:20171117T181305Z
LAST-MODIFIED:20171117T181305Z
UID:3169-1512914400-1512914400@cfcy.fm
SUMMARY:Memorial Carol Sing
DESCRIPTION:Sunday 10 December – 2:00 pm – in beautiful St. Paul’s church in downtown Charlottetown (Grafton St.\, opposite DVA building).\n1-½ hours of sing-along plus some performed pieces.\nPut the name of a fondly remembered person on a star for the memorial tree and in the keepsake programme (deadline Dec 5). Your $10 memorial donation supports the Organ Fund.\nInformation: 902-892-1691\, stpauls@pei.aibn.com\, www.stpaulschurch.ca \n
URL:https://cfcy.fm/event/memorial-carol-sing/
END:VEVENT
END:VCALENDAR