BEGIN:VCALENDAR
VERSION:2.0
PRODID:-//CFCY - ECPv4.6.26//NONSGML v1.0//EN
CALSCALE:GREGORIAN
METHOD:PUBLISH
X-WR-CALNAME:CFCY
X-ORIGINAL-URL:https://cfcy.fm
X-WR-CALDESC:Events for CFCY
BEGIN:VEVENT
DTSTART;TZID=America/Halifax:20190309T130000
DTEND;TZID=America/Halifax:20190309T150000
DTSTAMP:20260421T072509
CREATED:20190221T145249Z
LAST-MODIFIED:20190221T145249Z
UID:5755-1552136400-1552143600@cfcy.fm
SUMMARY:Seedy Saturday
DESCRIPTION:Seedy Saturday March 9\, 1:00-3:00 p.m. Confederation Centre Public Library\nSeed Saving Workshop at 1:00 p.m. with Carina Phillips\nSeed Exchange at 2:00 p.m.\nBring your saved and extra seeds. Please package them and include a label them with the date harvested \n
URL:https://cfcy.fm/event/seedy-saturday/
END:VEVENT
BEGIN:VEVENT
DTSTART;TZID=America/Halifax:20190309T190000
DTEND;TZID=America/Halifax:20190309T190000
DTSTAMP:20260421T072509
CREATED:20190226T194258Z
LAST-MODIFIED:20190226T194258Z
UID:5785-1552158000-1552158000@cfcy.fm
SUMMARY:'Young Stars' concert
DESCRIPTION:YOUNG STARS – Celebrating Talented Youth – Park Royal will be having a concert on March 9 at 7:00 pm – list of performers includes all ‘young stars’ who will perform their specific talent for us whether it be singing\, step dancing\, piano\, musical theatre or violin – all areas of talent are represented. Tickets available at the door the night of concert: Adults $10\, Children under twelve $5 and Family $20. \n
URL:https://cfcy.fm/event/young-stars-concert/
END:VEVENT
BEGIN:VEVENT
DTSTART;TZID=America/Halifax:20190309T193000
DTEND;TZID=America/Halifax:20190309T193000
DTSTAMP:20260421T072509
CREATED:20190301T145449Z
LAST-MODIFIED:20190301T145449Z
UID:5829-1552159800-1552159800@cfcy.fm
SUMMARY:Helping Hands Band Jamboree
DESCRIPTION:Saturday\, March 9th\, 2019 @7:30pm\nSt. Anthony’s Hall\nRoute 2\, Woodstock\nAdmission at the door.\nMusic\, fun and lunch \n
URL:https://cfcy.fm/event/helping-hands-band-jamboree-13/
END:VEVENT
END:VCALENDAR