BEGIN:VCALENDAR
VERSION:2.0
PRODID:-//CFCY - ECPv4.6.26//NONSGML v1.0//EN
CALSCALE:GREGORIAN
METHOD:PUBLISH
X-WR-CALNAME:CFCY
X-ORIGINAL-URL:https://cfcy.fm
X-WR-CALDESC:Events for CFCY
BEGIN:VEVENT
DTSTART;VALUE=DATE:20190625
DTEND;VALUE=DATE:20190701
DTSTAMP:20260426T003329
CREATED:20190614T121557Z
LAST-MODIFIED:20190614T121557Z
UID:6505-1561420800-1561939199@cfcy.fm
SUMMARY:Turtle Pond Productions - Culture Shock
DESCRIPTION:Turtle Pond Productions\, Lorne Elliott\, is putting on a production\, Culture Shock\, at Harmony House in Hunter River \n
URL:https://cfcy.fm/event/turtle-pond-productions-culture-shock/
END:VEVENT
BEGIN:VEVENT
DTSTART;VALUE=DATE:20190629
DTEND;VALUE=DATE:20190701
DTSTAMP:20260426T003329
CREATED:20190606T185735Z
LAST-MODIFIED:20190606T185735Z
UID:6454-1561766400-1561939199@cfcy.fm
SUMMARY:PEI Street Rod Association's 41st Annual Show n
DESCRIPTION:The PEI Street Rod Association’s 41st Annual Show n Shine takes place Saturday June 29th and Sunday June 30th at the Old Brudenell Park\, Brudenell PEI. The show runs from 10 – 4 pm with registration beginning at 9 am. Cars\, trucks\, motorcycles\, antique tractors\, stationary engines\, and car corral. Open to all makes and models\, old and new with prizes for all classes. Check out our website for more details. www.peistreetrod.com \n
URL:https://cfcy.fm/event/pei-street-rod-associations-41st-annual-show-n/
END:VEVENT
BEGIN:VEVENT
DTSTART;TZID=America/Halifax:20190629T080000
DTEND;TZID=America/Halifax:20190629T160000
DTSTAMP:20260426T003329
CREATED:20190528T120019Z
LAST-MODIFIED:20190528T120019Z
UID:6421-1561795200-1561824000@cfcy.fm
SUMMARY:Eastern Kings Giant Yard Sale
DESCRIPTION:Our 12th annual eastern kings giant yard sale will be held June 29th\, 8-4. Rain or Shine. Area covered is from dingwell mills to east point. Multi sites available at Fortune hall\, Souris Legion\, St. Marys hall and Eastern kIngs Rec center. Over 50 yard sale to visit. For more information please call 902-687-1715. \n
URL:https://cfcy.fm/event/eastern-kings-giant-yard-sale/
END:VEVENT
BEGIN:VEVENT
DTSTART;TZID=America/Halifax:20190629T083000
DTEND;TZID=America/Halifax:20190629T103000
DTSTAMP:20260426T003329
CREATED:20190614T122515Z
LAST-MODIFIED:20190614T122515Z
UID:6513-1561797000-1561804200@cfcy.fm
SUMMARY:LEARN TO RIDE A TWO-WHEEL BICYCLE
DESCRIPTION:On Saturday\, June 29th you are invited to stop by the Greenfield parking lot anytime between 830 am and 1030 am to learn how to ride a two-wheel bicycle. Ken Trenholm has taught over 250 people to transition from training wheels to two wheels since 2009. To make this experience as stress-free as possible\, Ken is requesting if the bicycles can come prepared: pedals and training wheels off\, tires pumped up to their max\, and seat raised/lowered so both the rider’s feet are flat on the ground. If the caregiver is unable to do so\, Ken will gladly help with this process. The Learn to Ride is open to the whole community so feel free to bring a friend. For those interested\, $10 tickets will be sold on a baby barn and/or a WestJet trip to help support the U15 PEIFC soccer team traveling to Nationals in Edmonton this October. \n
URL:https://cfcy.fm/event/learn-to-ride-a-two-wheel-bicycle/
END:VEVENT
BEGIN:VEVENT
DTSTART;TZID=America/Halifax:20190629T133000
DTEND;TZID=America/Halifax:20190629T133000
DTSTAMP:20260426T003329
CREATED:20190614T120253Z
LAST-MODIFIED:20190614T120615Z
UID:6497-1561815000-1561815000@cfcy.fm
SUMMARY:Silly Robbie! - Children's Music Show
DESCRIPTION:Silly Robbie: Live! is a high energy children’s music show that will keep the audience moving from start to finish. Every song will be sure to get the audience on their feet and encourages them to sing and dance along to every note! Along with that\, Silly Robbie focuses on discussing important issues in every child’s life\, like self-esteem\, healthy living and treating others the way you want to be treated. Audiences young and old will be sure to leave the theatre clapping their hands\, tapping their toes and feeling great about themselves. Come out and experience it for yourself on June 29th at the Guild in Charlottetown! \n
URL:https://cfcy.fm/event/silly-robbie-childrens-music-show/
ATTACH;FMTTYPE=image/jpeg:https://cfcy.fm/wp-content/uploads/sites/5/2019/06/silly-robbie.jpg
END:VEVENT
END:VCALENDAR