BEGIN:VCALENDAR
VERSION:2.0
PRODID:-//CFCY - ECPv4.6.26//NONSGML v1.0//EN
CALSCALE:GREGORIAN
METHOD:PUBLISH
X-WR-CALNAME:CFCY
X-ORIGINAL-URL:https://cfcy.fm
X-WR-CALDESC:Events for CFCY
BEGIN:VEVENT
DTSTART;VALUE=DATE:20190719
DTEND;VALUE=DATE:20190720
DTSTAMP:20260424T181854
CREATED:20190702T180432Z
LAST-MODIFIED:20190702T180432Z
UID:6585-1563494400-1563580799@cfcy.fm
SUMMARY:11th Annual Rodi Clow Memorial Ball Tournament
DESCRIPTION:Grand Tracadie Ball Field \n
URL:https://cfcy.fm/event/11th-annual-rodi-clow-memorial-ball-tournament/
END:VEVENT
END:VCALENDAR