BEGIN:VCALENDAR
VERSION:2.0
PRODID:-//CFCY - ECPv4.6.26//NONSGML v1.0//EN
CALSCALE:GREGORIAN
METHOD:PUBLISH
X-WR-CALNAME:CFCY
X-ORIGINAL-URL:https://cfcy.fm
X-WR-CALDESC:Events for CFCY
BEGIN:VEVENT
DTSTART;TZID=America/Halifax:20190923T193000
DTEND;TZID=America/Halifax:20190923T193000
DTSTAMP:20260424T000742
CREATED:20190917T145136Z
LAST-MODIFIED:20190917T145136Z
UID:6892-1569267000-1569267000@cfcy.fm
SUMMARY:Winsloe United Church Ceilidh
DESCRIPTION:Host: Dino Dunsford Special Guests: Tip-er-Back \nMonday Sept 23rd\, 7:30pm \nLunch will be served – Admission $10 at the door; doors open at 6:30pm \n121 Winsloe Road. (route 223) \n
URL:https://cfcy.fm/event/winsloe-united-church-ceilidh-5/
END:VEVENT
END:VCALENDAR