BEGIN:VCALENDAR
VERSION:2.0
PRODID:-//CFCY - ECPv4.6.26//NONSGML v1.0//EN
CALSCALE:GREGORIAN
METHOD:PUBLISH
X-WR-CALNAME:CFCY
X-ORIGINAL-URL:https://cfcy.fm
X-WR-CALDESC:Events for CFCY
BEGIN:VEVENT
DTSTART;TZID=America/Halifax:20190925T160000
DTEND;TZID=America/Halifax:20190925T190000
DTSTAMP:20260423T215502
CREATED:20190917T140313Z
LAST-MODIFIED:20190917T140349Z
UID:6890-1569427200-1569438000@cfcy.fm
SUMMARY:Autism-friendly Free Family Fun Day
DESCRIPTION:Autism-friendly FREE family fun day on September 25th from 4pm -7pm!  Located at Stars for Life at 23 Maypoint Road. There will be yard games\, crafts\, face painting\, snacks\, and more! The goal of the event is to raise autism awareness in PEI. Please plan to attend this great event!!! Rain Date: Oct. 2 4pm-7pm. \n
URL:https://cfcy.fm/event/autism-friendly-free-family-fun-day/
END:VEVENT
END:VCALENDAR