BEGIN:VCALENDAR
VERSION:2.0
PRODID:-//CFCY - ECPv4.6.26//NONSGML v1.0//EN
CALSCALE:GREGORIAN
METHOD:PUBLISH
X-WR-CALNAME:CFCY
X-ORIGINAL-URL:https://cfcy.fm
X-WR-CALDESC:Events for CFCY
BEGIN:VEVENT
DTSTART;TZID=America/Halifax:20191007T193000
DTEND;TZID=America/Halifax:20191007T193000
DTSTAMP:20260423T171854
CREATED:20191003T132555Z
LAST-MODIFIED:20191003T132555Z
UID:6933-1570476600-1570476600@cfcy.fm
SUMMARY:Winsloe United Church fundraising Ceilidh
DESCRIPTION:Host Colleen MacPhee will be joined by Terry Dunsford and Susan Campbell as well as the rest of the band. There will also be a light lunch.  Admission is $10 at the door\, which opens at 6:30 p.m. \n
URL:https://cfcy.fm/event/winsloe-united-church-fundraising-ceilidh/
END:VEVENT
END:VCALENDAR