BEGIN:VCALENDAR
VERSION:2.0
PRODID:-//CFCY - ECPv4.6.26//NONSGML v1.0//EN
CALSCALE:GREGORIAN
METHOD:PUBLISH
X-WR-CALNAME:CFCY
X-ORIGINAL-URL:https://cfcy.fm
X-WR-CALDESC:Events for CFCY
BEGIN:VEVENT
DTSTART;VALUE=DATE:20191016
DTEND;VALUE=DATE:20191019
DTSTAMP:20260421T132150
CREATED:20190827T161807Z
LAST-MODIFIED:20190827T161807Z
UID:6775-1571184000-1571443199@cfcy.fm
SUMMARY:Wo-He-Lo Club's Annual Fall Clothing Sale
DESCRIPTION:The sale offers high quality\, gently used fall and winter clothing for women\, men and children as well as hats\, ties\, purses\, jewellery and books. The Wo-He-Lo Club’s only goal is to raise funds for much needed medical equipment to care for PEI’s smallest patients in the Neonatal Intensive Care Unit at the QEH. Sale hours: Wednesday\, October 16th from 12 pm – 4 pm; Thursday\, October 17th from 8am to 8pm; Friday\, October 18th from 9am to 1:00 pm. Location: Queen Elizbeth Hospital\, Classroom A & B (3rd Floor). \n
URL:https://cfcy.fm/event/wo-he-lo-clubs-annual-fall-clothing-sale/
END:VEVENT
END:VCALENDAR