BEGIN:VCALENDAR
VERSION:2.0
PRODID:-//CFCY - ECPv4.6.26//NONSGML v1.0//EN
CALSCALE:GREGORIAN
METHOD:PUBLISH
X-WR-CALNAME:CFCY
X-ORIGINAL-URL:https://cfcy.fm
X-WR-CALDESC:Events for CFCY
BEGIN:VEVENT
DTSTART;VALUE=DATE:20191122
DTEND;VALUE=DATE:20191125
DTSTAMP:20260424T045054
CREATED:20191113T131254Z
LAST-MODIFIED:20191113T131254Z
UID:7195-1574380800-1574639999@cfcy.fm
SUMMARY:55th annual PEI Crafts Council Christmas Craft Fair
DESCRIPTION:“The original craft fair “ we like to say. \nImportant Information about the show:\nPEI Crafts Council – Non for Profit Organization \nDate- November 22-24 \nLocation – The Delta Convention Centre. \n40 vendors\, all crafters are juried members of the Crafts Council . This show displays the best quality Crafts on PEI. \n
URL:https://cfcy.fm/event/55th-annual-pei-crafts-council-christmas-craft-fair/
END:VEVENT
BEGIN:VEVENT
DTSTART;TZID=America/Halifax:20191124T190000
DTEND;TZID=America/Halifax:20191124T190000
DTSTAMP:20260424T045054
CREATED:20191105T141359Z
LAST-MODIFIED:20191105T141359Z
UID:7135-1574622000-1574622000@cfcy.fm
SUMMARY:Kendall Doherty & Friends Concert
DESCRIPTION:Plan to attend the “Kendall Docherty & Friends Christmas Concert” at St. Mark’s Presbyterian Church\, Charlottetown\, Nov. 24 at 7 p.m. For tickets call Lois at 902-368-8246 or purchase at the door. Fudge will also be sold. \n
URL:https://cfcy.fm/event/kendall-doherty-friends-concert/
END:VEVENT
END:VCALENDAR