BEGIN:VCALENDAR
VERSION:2.0
PRODID:-//CFCY - ECPv4.6.26//NONSGML v1.0//EN
CALSCALE:GREGORIAN
METHOD:PUBLISH
X-WR-CALNAME:CFCY
X-ORIGINAL-URL:https://cfcy.fm
X-WR-CALDESC:Events for CFCY
BEGIN:VEVENT
DTSTART;TZID=America/Halifax:20191129T090000
DTEND;TZID=America/Halifax:20191129T130000
DTSTAMP:20260423T215416
CREATED:20191107T161746Z
LAST-MODIFIED:20191107T161746Z
UID:7149-1575018000-1575032400@cfcy.fm
SUMMARY:GIANT BAKE SALE
DESCRIPTION:SPRING PARK UNITED CHURCH is holding a GIANT BAKE SALE at the Confederation Court Mall on Friday\, November 29th from 9am to 1pm near the TD Bank. There will be lots of home baked goodies including cookies\, squares\, cakes\, pies\, and  tea breads. Jams\, jellies\, pickles and fudge will also be on sale. Come early for the best selection \n
URL:https://cfcy.fm/event/giant-bake-sale/
END:VEVENT
END:VCALENDAR