BEGIN:VCALENDAR
VERSION:2.0
PRODID:-//CFCY - ECPv4.6.26//NONSGML v1.0//EN
CALSCALE:GREGORIAN
METHOD:PUBLISH
X-WR-CALNAME:CFCY
X-ORIGINAL-URL:https://cfcy.fm
X-WR-CALDESC:Events for CFCY
BEGIN:VEVENT
DTSTART;TZID=America/Halifax:20191130T083000
DTEND;TZID=America/Halifax:20191130T103000
DTSTAMP:20260423T203031
CREATED:20191126T150428Z
LAST-MODIFIED:20191126T150428Z
UID:7285-1575102600-1575109800@cfcy.fm
SUMMARY:Breakfast Fundraiser & Outstanding Volunteer Awards
DESCRIPTION:The Voluntary Resource Council’s 12th annual fundraiser is coming up and we hope you’ll join us. The Voluntary Resource Council operates the Voluntary Resource Centre\, a home for numerous small community organizations. The Breakfast Fundraiser is the only annual Voluntary Resource Council (VRC) fundraising event. The funds raised by the event are essential to the continued operation of the VRC. Memberships\, service fees and grants all help\, but the revenue from Breakfast fills the gap to make ends meet. Last year the event raised approximately $5\,000. \n  \nTickets are $30.00 each and charitable receipts will be issued for $15.00\, and for all donations of $10.00 or more. \n  \nParticipants will enjoy a great breakfast with some of PEI’s most engaged citizens\, and hear about the contributions of some of PEI’s Outstanding Volunteers who have been nominated by organizations and the community. \n  \nWe hope this year’s event will be even more successful and more fun! Silent and live auctions of art\, crafts\, and other items donated by VRC supporters will add to the fun! \n  \nFor tickets\, contact Sylvie Arsenault at 902-368-7337 or vrc@eastlink.ca. \n
URL:https://cfcy.fm/event/breakfast-fundraiser-outstanding-volunteer-awards/
END:VEVENT
BEGIN:VEVENT
DTSTART;TZID=America/Halifax:20191130T090000
DTEND;TZID=America/Halifax:20191130T160000
DTSTAMP:20260423T203031
CREATED:20191105T141050Z
LAST-MODIFIED:20191105T141050Z
UID:7131-1575104400-1575129600@cfcy.fm
SUMMARY:Craft Fair
DESCRIPTION:The 25th Annual Kensington Christmas Craft Fair! Saturday\, November 30\, 9:00AM-4:00PM\nAt the Kensington Queen Elizabeth Elementary School\nEntrance Fee is $2.00\nThere are over 50 door prizes to be won!Hosted by the Malpeque Bay Area Lions Club for the whole community! \n
URL:https://cfcy.fm/event/craft-fair/
END:VEVENT
BEGIN:VEVENT
DTSTART;TZID=America/Halifax:20191130T090000
DTEND;TZID=America/Halifax:20191130T140000
DTSTAMP:20260423T203031
CREATED:20191107T162040Z
LAST-MODIFIED:20191107T162040Z
UID:7153-1575104400-1575122400@cfcy.fm
SUMMARY:Christmas in Belfast Market
DESCRIPTION:Christmas in Belfast Market is Nov 30 at the Belfast Rec Center from 9am to 2pm and is hosted by the Belfast Historical Society. No admission but tickets available on a Vendor Basket as well as a draw for a $50 bill. Chili Meal Deal available for lunch. A quality shopping experience for all your Christmas needs. Come and support our local craftspeople! \n
URL:https://cfcy.fm/event/christmas-in-belfast-market/
END:VEVENT
BEGIN:VEVENT
DTSTART;TZID=America/Halifax:20191130T090000
DTEND;TZID=America/Halifax:20191130T143000
DTSTAMP:20260423T203031
CREATED:20191119T141705Z
LAST-MODIFIED:20191119T141729Z
UID:7253-1575104400-1575124200@cfcy.fm
SUMMARY:Craft Fair at Milton Community Hall
DESCRIPTION:November 30th\, 2019\, 9:00 am-2:30 pm\nAdmission is $2.00 at the door\nApproximately 35 vendors registered with everything from wood turning to preserves!\nThen at 7:00 pm that same day Janet McGarry and Wildwood present “A Down Home Christmas”\nAdmission is $12.00 at the door \n
URL:https://cfcy.fm/event/craft-fair-at-milton-community-hall/
END:VEVENT
BEGIN:VEVENT
DTSTART;TZID=America/Halifax:20191130T140000
DTEND;TZID=America/Halifax:20191130T140000
DTSTAMP:20260423T203031
CREATED:20191107T132723Z
LAST-MODIFIED:20191107T132723Z
UID:7143-1575122400-1575122400@cfcy.fm
SUMMARY:Cornwall Community Choir
DESCRIPTION:A Time for Joy with the Cornwall Community Choir and the Celtic Pulse Dancers.\nSaturday Nov. 30 (storm date Dec 1) at 2:00pm\nAdmission is $10 at the door\, no charge for children 12 and under. Please use the hall entrance.\nChoir members will provide a light lunch following the concert.\nFor further information\, contact Nancy Jack at 902 675 3838 \n
URL:https://cfcy.fm/event/cornwall-community-choir/
END:VEVENT
BEGIN:VEVENT
DTSTART;TZID=America/Halifax:20191130T140000
DTEND;TZID=America/Halifax:20191130T170000
DTSTAMP:20260423T203031
CREATED:20191113T125905Z
LAST-MODIFIED:20191113T125905Z
UID:7185-1575122400-1575133200@cfcy.fm
SUMMARY:Whisperwood Villa Christmas Tea and Bake Sale
DESCRIPTION:Whisperwood Villa will be hosting their annual Christmas tea and bake sale at 160 St. Peters Road in Charlottetown on Saturday November 30th at 2 pm.\nThis annual event is a fundraiser for the residents of Whisperwood Villa in order to provide them with activities\, entertainment and a continued high quality of life! \n
URL:https://cfcy.fm/event/whisperwood-villa-christmas-tea-and-bake-sale/
END:VEVENT
BEGIN:VEVENT
DTSTART;TZID=America/Halifax:20191130T190000
DTEND;TZID=America/Halifax:20191130T230000
DTSTAMP:20260423T203031
CREATED:20191115T150011Z
LAST-MODIFIED:20191115T150011Z
UID:7216-1575140400-1575154800@cfcy.fm
SUMMARY:Benefit for Chris Weeks and Family
DESCRIPTION:Where: Winsloe Lions Hall \nWhen: November 30\,2019 \nTime: 7:00 p.m. to 11:00 p.m. \nSilent Auction\, Live Auction\, 50/50\, other draws etc. \n
URL:https://cfcy.fm/event/benefit-for-chris-weeks-and-family/
END:VEVENT
BEGIN:VEVENT
DTSTART;TZID=America/Halifax:20191130T193000
DTEND;TZID=America/Halifax:20191130T193000
DTSTAMP:20260423T203031
CREATED:20191119T140743Z
LAST-MODIFIED:20191119T140743Z
UID:7243-1575142200-1575142200@cfcy.fm
SUMMARY:Helping Hands Band Jamboree
DESCRIPTION:Saturday\, November 30th\, 2019 @7:30pm\nSt. Anthony’s Hall\nRoute 2\, Woodstock\nAdmission at the door\nMusic\, fun and lunch \n
URL:https://cfcy.fm/event/helping-hands-band-jamboree-26/
END:VEVENT
END:VCALENDAR