BEGIN:VCALENDAR
VERSION:2.0
PRODID:-//CFCY - ECPv4.6.26//NONSGML v1.0//EN
CALSCALE:GREGORIAN
METHOD:PUBLISH
X-WR-CALNAME:CFCY
X-ORIGINAL-URL:https://cfcy.fm
X-WR-CALDESC:Events for CFCY
BEGIN:VEVENT
DTSTART;TZID=America/Halifax:20191212T190000
DTEND;TZID=America/Halifax:20191212T190000
DTSTAMP:20260421T124510
CREATED:20191204T202033Z
LAST-MODIFIED:20191204T202033Z
UID:7375-1576177200-1576177200@cfcy.fm
SUMMARY:Montague Regional High School vocal ensemble Christmas Musical
DESCRIPTION:On December 12\, the Montague Regional High School vocal ensemble will be putting on a Christmas musical called\, “Counting Down to Christmas”. The musical is about a group of high school music students preparing for their annual Christmas concert who encounter some serious challenges\, not the least of which is a certain\, cranky\, irritable teacher named Ms. Bahum\, who does her best to ruin the students’ plans for a great concert. Some fun and chaos ensues. \nThe show is Thursday\, December 12\, at 7 p.m.\, with a storm date being the 16th\, in the Montague Regional High School auditorium. Tickets are 6 dollars each\, or 5 dollars for students and seniors. There will be a cake auction along with a bake sale to help raise funds for the Disney ensemble\, who are traveling to Florida and performing in Walt Disney World. Audience members can be part of the plot\, too! Just bring in a food bank item or two. \n
URL:https://cfcy.fm/event/montague-regional-high-school-vocal-ensemble-christmas-musical/
END:VEVENT
END:VCALENDAR