BEGIN:VCALENDAR
VERSION:2.0
PRODID:-//CFCY - ECPv4.6.26//NONSGML v1.0//EN
CALSCALE:GREGORIAN
METHOD:PUBLISH
X-WR-CALNAME:CFCY
X-ORIGINAL-URL:https://cfcy.fm
X-WR-CALDESC:Events for CFCY
BEGIN:VEVENT
DTSTART;TZID=America/Halifax:20191215T140000
DTEND;TZID=America/Halifax:20191215T140000
DTSTAMP:20260423T101624
CREATED:20191126T151836Z
LAST-MODIFIED:20191126T151836Z
UID:7287-1576418400-1576418400@cfcy.fm
SUMMARY:Trebel With Girls QEH Winter Fundraising Series
DESCRIPTION:Join us at the Assumption Parish Hall in Stratford beginning at 2pm \nWith Special Guests: Mike and Shane Pendergast \nThe family friendly afternoon also includes door prizes\, a 50/50 draw and homemade lunch served at intermission! Adults $10\, kids 12 & under $5! A fundraiser for the Queen Elizabeth Hospital Foundation sponsored by Prince Edward Aqua Farms and Thomas Carver Trucking as well as Patkai & Sons Financial! See you at the show! \n  \n
URL:https://cfcy.fm/event/trebel-with-girls-qeh-winter-fundraising-series/
END:VEVENT
BEGIN:VEVENT
DTSTART;TZID=America/Halifax:20191215T140000
DTEND;TZID=America/Halifax:20191215T140000
DTSTAMP:20260423T101624
CREATED:20191204T201532Z
LAST-MODIFIED:20191204T201532Z
UID:7373-1576418400-1576418400@cfcy.fm
SUMMARY:Christmas with Fascinating Ladies at the King’s Playhouse
DESCRIPTION:Christmas with Fascinating Ladies at the King’s Playhouse in Georgetown. \nFascinating Ladies are back\, exploring holiday classics in the style of your favourite female artists from the last century. They’ll share their best-loved Christmas hits made popular by such greats as the Andrews Sisters\, Dolly Parton\, Emmylou Harris\, The Judds\, Sarah McLauchlin and more. \nA Fascinating Ladies Christmas is a confection of favourites like ‘White Christmas’\, ‘Winter Wonderland’\, ‘Silent Night’ and ‘Christmas Waltz’\, with beautiful three-part harmonies – all wrapped up in the Fascinating Ladies style\, with wit\, warmth and good cheer! \nTickets: $20 advance / $25 at the door \n
URL:https://cfcy.fm/event/christmas-with-fascinating-ladies-at-the-kings-playhouse/
END:VEVENT
END:VCALENDAR