BEGIN:VCALENDAR
VERSION:2.0
PRODID:-//CFCY - ECPv4.6.26//NONSGML v1.0//EN
CALSCALE:GREGORIAN
METHOD:PUBLISH
X-WR-CALNAME:CFCY
X-ORIGINAL-URL:https://cfcy.fm
X-WR-CALDESC:Events for CFCY
BEGIN:VEVENT
DTSTART;TZID=America/Halifax:20191220T190000
DTEND;TZID=America/Halifax:20191220T190000
DTSTAMP:20260423T173910
CREATED:20191204T201317Z
LAST-MODIFIED:20191204T201317Z
UID:7371-1576868400-1576868400@cfcy.fm
SUMMARY:KELLEY MOONEY CHRISTMAS CONCERT
DESCRIPTION:KELLEY MOONEY CHRISTMAS CONCERT featuring Jon Matthews and Allison Kelly \nTrinity United Church\, 90 Spring St.\, Summerside\, Friday\, Dec. 20 ~ 7:00 pm \nAdmission: $15 / Seniors: $10 / Kids under 12: Free\nA portion of the proceeds goes back to the church \nWe also ask that you bring a non-perishable food item(s) for the food bank for those who might be struggling at this time of year. \n
URL:https://cfcy.fm/event/kelley-mooney-christmas-concert-2/
END:VEVENT
END:VCALENDAR