BEGIN:VCALENDAR
VERSION:2.0
PRODID:-//CFCY - ECPv4.6.26//NONSGML v1.0//EN
CALSCALE:GREGORIAN
METHOD:PUBLISH
X-WR-CALNAME:CFCY
X-ORIGINAL-URL:https://cfcy.fm
X-WR-CALDESC:Events for CFCY
BEGIN:VEVENT
DTSTART;TZID=America/Halifax:20220722T080000
DTEND;TZID=America/Halifax:20220725T170000
DTSTAMP:20260423T171444
CREATED:20220722T112401Z
LAST-MODIFIED:20220722T131343Z
UID:10500-1658476800-1658768400@cfcy.fm
SUMMARY:PEI Potato Blossom Festival O’Leary
DESCRIPTION:July 18th-24th\, 2022\nO’Leary\, PE\nContact Us:\npotatoblossomfestival@gmail.com \nThe PEI Potato Blossom Festival takes place each July to mark the time when the potato plants fill the fields in blossom. A fun-filled week for all! \n  \n
URL:https://cfcy.fm/event/pei-potato-blossom-festival-oleary/
CATEGORIES:Festivals
END:VEVENT
BEGIN:VEVENT
DTSTART;TZID=America/Halifax:20220723T080000
DTEND;TZID=America/Halifax:20220723T170000
DTSTAMP:20260423T171444
CREATED:20220722T132049Z
LAST-MODIFIED:20220725T142832Z
UID:10502-1658563200-1658595600@cfcy.fm
SUMMARY:Tyne Valley Oyster Festival
DESCRIPTION:August 3rd-7th\, 2022\nTyne Valley\, PE\n\nThe Oyster Festival Suppers are back and we want to thank all those who have volunteered to help out again this year! If you’re looking to be one of those volunteers\, please reach out to ella@tvoysterfest.ca or call (902) 315-3194.\n\n\n\nThe fried oyster suppers are available from 12-7 on Friday Aug. 5th at the Tyne Valley Fire Hall. Tickets are available at the event and cash only.  Prices include HST. You can enjoy your supper dine-in\, or take it to go!\n\n \n\nWe hope to see you there!\n\nContact Us:\nAdam MacLennan\n902-439-0779\ntvoysterfest@gmail.com \n  \n \n
URL:https://cfcy.fm/event/tyne-valley-oyster-festival/
CATEGORIES:Festivals
END:VEVENT
END:VCALENDAR