BEGIN:VCALENDAR
VERSION:2.0
PRODID:-//CFCY - ECPv4.6.26//NONSGML v1.0//EN
CALSCALE:GREGORIAN
METHOD:PUBLISH
X-WR-CALNAME:CFCY
X-ORIGINAL-URL:https://cfcy.fm
X-WR-CALDESC:Events for CFCY
BEGIN:VEVENT
DTSTART;TZID=America/Halifax:20220726T080000
DTEND;TZID=America/Halifax:20220729T170000
DTSTAMP:20260423T113121
CREATED:20220726T110225Z
LAST-MODIFIED:20220726T110225Z
UID:10547-1658822400-1659114000@cfcy.fm
SUMMARY:Betty’s Song
DESCRIPTION:Betty’s Song\nA Mother\, A Daughter\, and a Lobster Boat \nThis performance contains mature language and content. \nAfter being widowed far too young\, Betty is left with a pile of bills and the inheritance of a single lobster boat. Somewhere between raising her daughter and spending Saturday nights at the Slanty Shanty\, she becomes one of the first women to captain her own lobster boat in Eastern P.E.I. \nThis quirky coming-of-age story takes you through the perils of a tough lobster lady raising a saucy teenager in 1990s Murray Harbour North. Created and performed by Island singer-songwriter Ashley Condon\, this funny and heartfelt show features original music and enough memories to fill a family photo album. \n  \n \n  \n  \n
URL:https://cfcy.fm/event/bettys-song/
CATEGORIES:Theatre
END:VEVENT
END:VCALENDAR