BEGIN:VCALENDAR
VERSION:2.0
PRODID:-//CFCY - ECPv4.6.26//NONSGML v1.0//EN
CALSCALE:GREGORIAN
METHOD:PUBLISH
X-WR-CALNAME:CFCY
X-ORIGINAL-URL:https://cfcy.fm
X-WR-CALDESC:Events for CFCY
BEGIN:VEVENT
DTSTART;TZID=America/Halifax:20220729T080000
DTEND;TZID=America/Halifax:20220807T170000
DTSTAMP:20260420T001905
CREATED:20220722T104946Z
LAST-MODIFIED:20220805T130637Z
UID:10494-1659081600-1659891600@cfcy.fm
SUMMARY:2022 Crapaud Exhibition
DESCRIPTION:We are excited to announce the return of the 2022 Crapaud Exhibition and PEI Truck & Tractor Pull Championships. \nTractor Pull Weekend is August 5th-7th\, 2022 \n\nFriday\, August 5th – 4:00 PM\nTrack 1 \n\n1200 lbs Modified Lawn Mowers – Sponsored By: Black Top Graphics & Standard Aero\n6200 lbs 4×4 Modified Trucks – Sponsored By Curran & Briggs & Shaw Resources\n8500 lbs Super Street Diesel Trucks – Sponsored By Red Skye Trucking & BASF\n6200 lbs 2 WD Super Stock Truck – Sponsored By MoveAll Structure & McCain Produce\n6200 lbs 2 WD Modified Truck (Naturally Aspirated) – Sponsored By Lowther Refrigeration & Underhill Landscaping\n8500 lbs Pro Farm Tractor – Sponsored By ASTTQ Hot Farm & Summerside Chrysler Dodge\n6200 lbs 2 WD Modified Truck (Blown) – Sponsored By HJV Equipment\n7200 lbs Modified Tractor – Sponsored By Kier’s Doors\n12\,500 lbs Hot Stock Tractor – Sponsored By Corcorans Farm Supply & PEI Potato Solutions\n8500 lbs Pro Stock Tractor – Sponsored By Kennedy Metals Inc & Dialed In Precision Agri Services\n9500 lbs Pro Farm Tractor – Sponsored By Novus Glass\nSemi Truck Race Your Neighbor – Sponsored By Parts For Trucks & Xplornet\n20\,000 lbs Semi Trucks – Sponsored By MacKinnon Enterprises\n10\,000 Pro Stock Tractor – Linkletter’s Welding\n\nTrack 2 \n\n5000 lbs Stock Tractor – Sponsored By Health MacDonald & Durabelt\n6000 lbs Stock Tractor – Sponsored By Kensington Agri/Kubota & Island Oxygen\n7000 lbs Stock Tractor – Sponsored By Red Isle Production\n8000 lbs Stock Tractor – Glenn’s Repair Service & Johnston’s Towing\n14\,000 lbs Stock Tractor – Garden Isle Farms & Syngenta\n\n\n\nSaturday\, August 6th – 3:00 PM\nTrack 1 \n\n7200 lbs Modified Tractor – Sponsored By Matheson Construction & Island Maintenance Supply\n1200 lbs Modified Lawn Mowers – Sponsored By Graymont\n6200 lbs 2 WD Super Stock Truck – Sponsored By PEI Agromart\n8500 lbs Pro Farm Tractor – Sponsored By ASTTQ Hot Farm & Driveline\n8500 lbs Super Street Diesel Trucks – Sponsored By Bayer CropScience\n6200 lbs 2 WD Modified Truck (Blown) – Sponsored By Good Guys Auto Glass & Jamie Fox MLA\n6200 lbs 4×4 Modified Trucks – Sponsored By VAP Canada & DC Tire\n9500 lbs Pro Farm Tractors – Sponsored By Torq & Glenn’s Place Ltd\n6200 lbs 2 WD Modified Truck (Naturally Aspirated) – Sponsored By Andy Cudmore Forestry & Carquest Summerside\n7200 lbs Modified Tractor – Sponsored By Palmer Automotive Centre\n12\,500 lbs Hot Stock Tractor – Sponsored By Mid Isle Farms\n8500 lbs Pro Stock Tractor – Sponsored By PEI Potato Solutions – Danny MacEwen Memorial\nSemi Truck Race Your Neighbor – Sponsored By Summerside Chrysler Dodge\n20\,000 lbs Semi Trucks – Sponsored By Parts For Trucks\n10\,000 lbs Pro Stock Tractor – Sponsored By Kensington Agri / New Holland\n\nTrack 2 \n\n16\,000 lbs Stock Tractor – Sponsored By HJV Equipment & Rogator\n18\,000 lbs Stock Tractor – Sponsored By Good Equipment\n12\,000 lbs Stock Tractor – Sponsored By Island Lime\n10\,000 lbs Stock Tractor – Sponsored By Allan Equipment\n\n\n\nADDRESS :PO Box 153 · 20569 Trans Canada Highway · Crapaud\, PE · C0A 1J0\nPHONE 🙁 +1 ) 902-393-8698 (Seasonal)\nEMAIL :admin@crapaudexhibition.com\n\n  \n \nFriday – July 29th\, 2022\nGate Prices: Adults: $10.00 ⋅ Children aged 6-11: $5:00 ⋅ Children 5 and under: Free (must be accompanied by an adult). \n\n\n\n9:00 AM – 12:00 Noon\n4-H Entries must be received.\n\n\n10:00 AM – 12:30 PM\nDomestic Science entries received at the Crapaud Curling Club\n\n\n1:00 PM\n4-H classes judged\, excluding livestock\n\n\n1:00 PM\nDomestic Science entries judged\n\n\n7:00 PM\nOfficial Opening at Actiplex. Followed by Rising Stars (6-12 yrs) and Youth Talent (13-21) competiions.\nSponsored by PEI Mutual\n\n\n\nSaturday – July 30th\, 2022\nGate Prices: Adults: $10.00 ⋅ Children aged 6-11: $5:00 ⋅ Children 5 and under: Free (must be accompanied by an adult). \nThe Hampton Women’s Institute will serve breakfast from 8:00 AM to 10:30 AM in the rink canteen. \nChef Peter Hicks will serve dinners from 11:00 AM to 2:00 PM and from 4:00 PM to 6:00 PM in the Crapaud Curling Club \nCanteen Services are also available during the day\, in support of Minor Hockey \n\n\n\n8:00 AM\nGates Open\, Registration for Pulls\n\n\n9:00 AM\nLawn Tractor and 4-WD Truck Pulls\n\n\n9:00 AM – 5:00 PM\nDisplay of Booths (Actiplex)\nDisplay of Domestic Sciences (Curling Club)\n\n\n9:30 AM\nHorse\, pony\, canine\, rabbit\, and dairy starts\n\n\n9:30 AM – 5:00 PM\nAgriculture Awareness (John Walker Building): Small Animals\, Rabbits\n\n\n10:00 AM – 4:00 PM\nChildren’s Activities\, PEI Inflatables\n\n\n10:00 AM\nDrop-Off Blueberry Pies and Pineapple Upside-down Cakes\n\n\n11:00 AM\nBarrel Racing\, Pole Bending\, Washer Toss begins\n\n\n11:00 AM – 3:00 PM\nFood Awareness court\nSavour The Flavour (Actiplex)\n\n\n11:30 AM – 1:00 PM\nFirst food demonstration with Kiled Chef (Actiplex)\n\n\n12:00 Noon\nBlueberry Pie and Upside-down Cake Judging (Actiplex)\n\n\n1:00 PM\nSlow Tractor Race (old hockey pad)\n\n\n1:00 PM – 2:00 PM\nBlueberry pie sales\, Savour the Flavour (Actiplex)\n\n\n1:00 PM – 4:00 PM\nCattle Sorting (Raindate Sunday 1:00 – 4:00 PM) (Ring C)\n\n\n2:00 PM\nJudging Dairy classes\n\n\n2:00 PM – 3:30 PM\nSecond food demonstration with Kilted Chef (Actiplex)\n\n\n3:30 PM\nSushi Demonstrations with Helen Green(Actiplex)\n\n\n4:00 PM\nSalute to Champions (Actiplex Mainstage)\n\n\n4:30 PM\nPotato Peeling Contest (Actiplex Mainstage)\n\n\n\nSunday – July 31st\, 2022\nGate Prices: Adults and Children: $5.00 ⋅ Children 5 and under: Free (must be accompanied by an adult). \n\n\n\n9:00 AM\nBarrel Racing\, Pole Bending\n\n\n1:00 PM\nDraft Horse Pulls\n\n\n\nFree Parking For All Events \n
URL:https://cfcy.fm/event/2022-crapaud-exhibition/
CATEGORIES:Festivals
END:VEVENT
BEGIN:VEVENT
DTSTART;TZID=America/Halifax:20220801T080000
DTEND;TZID=America/Halifax:20220807T170000
DTSTAMP:20260420T001905
CREATED:20220801T123126Z
LAST-MODIFIED:20220801T123253Z
UID:10559-1659340800-1659891600@cfcy.fm
SUMMARY:St. Peter's Bay Wild Blueberry Festival & Homecoming
DESCRIPTION:\nA community-wide\, week-long celebration filled with community spirit and fantastic events!\n\n\nEach year the village of St. Peter’s Bay holds its annual blueberry festival – a week filled with events and community spirit. Throughout the years\, some events may have changed but the heart of the festival remains the same\, to bring those within the community together\, to bring those who may have moved away home and to welcome new friends! \nWhether it’s our slo-pitch softball tournament\, family movie night\, community yard sale\, trivia night\, adult dance\, or “Blueberry Roll”\, there’s something for everyone! Check out our pages to learn more about the events and how you can be involved. \n\n\nSt. Peter’s Wild Blueberry Festival and Homecoming (stpetersblueberryfestival.com) \n\n \n\n
URL:https://cfcy.fm/event/st-peters-wild-blueberry-festival/
END:VEVENT
BEGIN:VEVENT
DTSTART;TZID=America/Halifax:20220805T080000
DTEND;TZID=America/Halifax:20220827T170000
DTSTAMP:20260420T001905
CREATED:20220726T104020Z
LAST-MODIFIED:20220728T115204Z
UID:10544-1659686400-1661619600@cfcy.fm
SUMMARY:A Closer Walk With Patsy Cline
DESCRIPTION:Country music’s greatest female singer takes centre stage at this\nheartwarming and powerful tribute to Patsy Cline’s spirit and celebration of the music of her life.\n \nStarring Becca Guilderson as Patsy Cline and Nick Whelan as Little Big Man. \nOpens August 5th at Florence Simmons Performance Hall \nOnly eight performances! \nTickets at PatsyClinePei.ca or at 1 877 566 3346 \nEnter promo code CFCY for 20% off\n  \nA TRIBUTE TO COUNTRY MUSIC’S GREATEST FEMALE SINGER\nA Closer Walk With Patsy Cline is a tribute to country music’s greatest female singer and a celebration of her life and music. This powerful and moving show weaves Patsy’s most enduring songs together with a compelling narrative of her life\, as told in her own words. \nSit back and let yourself be moved by her mesmerizing musicality and the fascinating story of her life. Featuring her most popular classics\, including Crazy\, Your Cheatin’ Heart\, Just a Closer Walk With Thee\, I Fall to Pieces\, and many more\, this captivating musical production has proven to be a hit with older and younger audiences alike. \nStarring Becca Guilderson as Patsy Cline and Nicholas Whelan as Little Big Man\, and featuring a talented 4-piece band composed of Elaine Boulanger\, Page Gallant\, Steve Zaat\, and Jonathan Kipping. \nA Closer Walk with Patsy Cline\nWritten by: Dean Reagan\nSanctioned by the Patsy Cline Estate\nWholly owned by Lutvick Productions International\, Ltd and Licensed exclusively by MARQUIS Inc.\nDirector: Mark Fraser\nMusical Director: Elaine Boulanger \n
URL:https://cfcy.fm/event/a-closer-walk-with-patsy-cline/
CATEGORIES:Concerts
END:VEVENT
BEGIN:VEVENT
DTSTART;TZID=America/Halifax:20220806T080000
DTEND;TZID=America/Halifax:20220807T170000
DTSTAMP:20260420T001905
CREATED:20220722T133439Z
LAST-MODIFIED:20220722T133646Z
UID:10506-1659772800-1659891600@cfcy.fm
SUMMARY:Rock the Boat Music Festival
DESCRIPTION:We are heading into our 8th year of Rock the Boat Music Festival at beautiful Green Park in Tyne Valley\, PEI. The festival will be bigger and better as we hope to provide a normal Rock the Boat experience! We are back to our roots by bringing the best Canadian Rock Bands to Prince Edward Island! By attending Rock the Boat\, you are supporting Tyne Valley\, as the festival is the biggest fundraiser for our small community. \n  \nOUR LADY PEACE\, THE ROAD HAMMERS\, DEFAULT\, HAYWIRE\, ARSENAL MILLS\, ANDREW WAITE\, HIRED GUNS\, JULIE & DANNY\, CANOROUS PARADISE \n  \nRock the Boat Music Fest is an outdoor concert held at Green Park during the Tyne Valley Oyster Festival in the beautiful Tyne Valley\, PEI. \n“Can I still get tickets?”\n.\nYES All General Admission Tickets are available for purchase.\n.\nAvailable:\nTyne Valley Oyster Festival Oyster Shucking Competition Friday Tickets.\nWeekend General Admission Tickets\nSaturday General Admission Tickets\nSunday General Admission Tickets\n.\nTickets are available for purchase here: https://tvoysterfest.ca/tickets/\n.\nQuestions? Our DM’s are open all the time to help you navigate your way to Tyne Valley.\n
URL:https://cfcy.fm/event/rock-the-boat-music-festival/
CATEGORIES:Concerts
END:VEVENT
END:VCALENDAR