BEGIN:VCALENDAR
VERSION:2.0
PRODID:-//CFCY - ECPv4.6.26//NONSGML v1.0//EN
CALSCALE:GREGORIAN
METHOD:PUBLISH
X-WR-CALNAME:CFCY
X-ORIGINAL-URL:https://cfcy.fm
X-WR-CALDESC:Events for CFCY
BEGIN:VEVENT
DTSTART;TZID=America/Halifax:20220805T080000
DTEND;TZID=America/Halifax:20220827T170000
DTSTAMP:20260420T091727
CREATED:20220726T104020Z
LAST-MODIFIED:20220728T115204Z
UID:10544-1659686400-1661619600@cfcy.fm
SUMMARY:A Closer Walk With Patsy Cline
DESCRIPTION:Country music’s greatest female singer takes centre stage at this\nheartwarming and powerful tribute to Patsy Cline’s spirit and celebration of the music of her life.\n \nStarring Becca Guilderson as Patsy Cline and Nick Whelan as Little Big Man. \nOpens August 5th at Florence Simmons Performance Hall \nOnly eight performances! \nTickets at PatsyClinePei.ca or at 1 877 566 3346 \nEnter promo code CFCY for 20% off\n  \nA TRIBUTE TO COUNTRY MUSIC’S GREATEST FEMALE SINGER\nA Closer Walk With Patsy Cline is a tribute to country music’s greatest female singer and a celebration of her life and music. This powerful and moving show weaves Patsy’s most enduring songs together with a compelling narrative of her life\, as told in her own words. \nSit back and let yourself be moved by her mesmerizing musicality and the fascinating story of her life. Featuring her most popular classics\, including Crazy\, Your Cheatin’ Heart\, Just a Closer Walk With Thee\, I Fall to Pieces\, and many more\, this captivating musical production has proven to be a hit with older and younger audiences alike. \nStarring Becca Guilderson as Patsy Cline and Nicholas Whelan as Little Big Man\, and featuring a talented 4-piece band composed of Elaine Boulanger\, Page Gallant\, Steve Zaat\, and Jonathan Kipping. \nA Closer Walk with Patsy Cline\nWritten by: Dean Reagan\nSanctioned by the Patsy Cline Estate\nWholly owned by Lutvick Productions International\, Ltd and Licensed exclusively by MARQUIS Inc.\nDirector: Mark Fraser\nMusical Director: Elaine Boulanger \n
URL:https://cfcy.fm/event/a-closer-walk-with-patsy-cline/
CATEGORIES:Concerts
END:VEVENT
BEGIN:VEVENT
DTSTART;VALUE=DATE:20220813
DTEND;VALUE=DATE:20220815
DTSTAMP:20260420T091727
CREATED:20220810T142931Z
LAST-MODIFIED:20220811T122950Z
UID:10587-1660348800-1660521599@cfcy.fm
SUMMARY:REASON TO RIDE CHARITY POKER RUN
DESCRIPTION:\n\n\n\n\n\n\n\n\n\n\n\nReason to Ride is an annual motorcycle charity run for the biking community across Atlantic Canada to raise awareness for mental health and the Mental Health First Aid training available. \n\n\n\n\n\n\n\n\n\n\n\nAugust 13th RAIN DATE August 14th\n\n\n\n\n\n\n\n\n\n\n\n\nWe ride to raise awareness for mental health issues and to provide a link to resources and training that can assist to educate those willing to help those struggling with a mental health issue.\nOur goal is to help prevent a mental health crisis from occurring by providing these tools and resources on ‘Mental Health First Aid’ training to the biking community across PEI this summer.\nOur vision is to expand the run to each of the Maritime Provinces over the next 3 years supporting the Canadian Mental Health Association in that area!\nPeople Helping People Help Themselves!\n#whatsyourreason\n\n\n\n\n\n\n\n\n1 902-393-3982\n\n\n\n\n\n\nreasontoride2022@gmail.com\n\n\n\n\n\n\n\n\n\n\n\n\n\n\n
URL:https://cfcy.fm/event/reason-to-ride-cahrity-poker-run/
CATEGORIES:Fundraiser
END:VEVENT
BEGIN:VEVENT
DTSTART;TZID=America/Halifax:20220813T110000
DTEND;TZID=America/Halifax:20220813T140000
DTSTAMP:20260420T091727
CREATED:20220811T115531Z
LAST-MODIFIED:20220811T115531Z
UID:10592-1660388400-1660399200@cfcy.fm
SUMMARY:Seventh annual Antique Farm Show
DESCRIPTION:\n\n\n\nAfter two years away due to the COVID-19 pandemic\, the tradition continues at 5529 Route 225 in Kinkora with the seventh annual Antique Farm Show\nset for Saturday\, Aug. 13\, from 11 a.m. to 2 p.m. \nVisitors are invited to roam the grounds of the potato farm\, viewing antique farm machinery\,\nincluding new finds\, equipment\, trucks\, tractors and cars\, stationary engines\, and lots more. \n“We are happy to once again be able to showcase our collection of antiques and equipment in support of an Island charity\,” said Peter Roberts\,\nevent organizer and recently-retired farmer who now runs Tater\, Tractors and Tales. “Even if you’ve visited before\,\nwe’d love to see you back\, as we’ve certainly got something new in store for you.” \nProceeds from this year’s event will benefit the PEI Chapter of Children’s Wish Foundation. \nThere will be a silent auction\, bake sale\, 50/50 draw and live entertainment. Greco pizza and Cavendish Farm fries will be available for purchase. \nAdmission to the show is by donation. The farm is located at 5529 Route 225\, Kinkora. \nFor more information\, or to make a donation\, please call 888-7278 or email proberts@pei.sympatico.ca.\n\n\n\n\n
URL:https://cfcy.fm/event/seventh-annual-antique-farm-show/
CATEGORIES:Fundraiser
END:VEVENT
END:VCALENDAR