BEGIN:VCALENDAR
VERSION:2.0
PRODID:-//CFCY - ECPv4.6.26//NONSGML v1.0//EN
CALSCALE:GREGORIAN
METHOD:PUBLISH
X-WR-CALNAME:CFCY
X-ORIGINAL-URL:https://cfcy.fm
X-WR-CALDESC:Events for CFCY
BEGIN:VEVENT
DTSTART;TZID=America/Halifax:20260422T180000
DTEND;TZID=America/Halifax:20260422T200000
DTSTAMP:20260420T083444
CREATED:20260107T120051Z
LAST-MODIFIED:20260107T120051Z
UID:13442-1776880800-1776888000@cfcy.fm
SUMMARY:WINGO Wednesday
DESCRIPTION:WINGO Wednesday at 1858! 6–8PM Eat. Drink. Yell WINGO.It’s fun for the whole family\, totally free to play\, and always a packed house.Get here early to grab a seat — this one fills up fast!#WingoWednesday #NewYearsWingo #CharlottetownPEI #PEIEvents #WhatsOnPEI#SupportLocalPEI #DowntownCharlottetown #IslandEats #PEILife \nSee less\n
URL:https://cfcy.fm/event/wingo-wednesday/2026-04-22/
ATTACH;FMTTYPE=image/jpeg:https://cfcy.fm/wp-content/uploads/sites/5/2026/01/wingo.jpg
END:VEVENT
BEGIN:VEVENT
DTSTART;TZID=America/Halifax:20260425T190000
DTEND;TZID=America/Halifax:20260425T220000
DTSTAMP:20260420T083444
CREATED:20260107T144648Z
LAST-MODIFIED:20260107T144648Z
UID:13491-1777143600-1777154400@cfcy.fm
SUMMARY:Live Music - 1858 Caesar Bar
DESCRIPTION:\n LIVE MUSIC TONIGHT at 1858 \n\nFeaturing: A variety of PEI Musicians\nMusic starts at 7pm\n\n\nHappy Hour + live tunes = the perfect night out.\n\n\n\n Drink specials during Happy Hour\n Live music kicks off at 7pm\n Full menu — not just Caesars\n\n\nCome early\, grab a seat\, and stay for the vibe.\n\n\n\n#LiveMusicPEI #HappyHourPEI #1858PEI #NotJustCaesars #CharlottetownNights #PEIEvents\n\n
URL:https://cfcy.fm/event/live-music-1858-caesar-bar/2026-04-25/
CATEGORIES:Arts & Culture,Concerts
ATTACH;FMTTYPE=image/jpeg:https://cfcy.fm/wp-content/uploads/sites/5/2026/01/live-music.jpg
END:VEVENT
BEGIN:VEVENT
DTSTART;TZID=America/Halifax:20260515T070000
DTEND;TZID=America/Halifax:20260515T220000
DTSTAMP:20260420T083444
CREATED:20260409T122938Z
LAST-MODIFIED:20260409T122938Z
UID:13763-1778828400-1778882400@cfcy.fm
SUMMARY:RED ROCK RUMBLE
DESCRIPTION:Red Rock Rumble May 15 at the Eastlink Centre Charlottetown ! Tickets will be on sale soon !\n#oftenimitatedneverduplicated\n
URL:https://cfcy.fm/event/red-rock-rumble/
CATEGORIES:Arts & Culture,Concerts,Sport & Recreation
ATTACH;FMTTYPE=image/jpeg:https://cfcy.fm/wp-content/uploads/sites/5/2026/04/rumble.jpg
END:VEVENT
BEGIN:VEVENT
DTSTART;TZID=America/Halifax:20260522T120000
DTEND;TZID=America/Halifax:20260523T220000
DTSTAMP:20260420T083444
CREATED:20260409T111236Z
LAST-MODIFIED:20260409T111236Z
UID:13760-1779451200-1779573600@cfcy.fm
SUMMARY:Charlottetown Food Truck Festival
DESCRIPTION:A new festival of food\, family\, and fun — coming to Charlottetown in May — has been announced by the Rotary Club of Charlottetown Royalty.\nThe first annual Charlottetown Food Truck Festival will be happening at the Eastlink Centre May 22 and 23. Upwards of 15 Food Trucks from PEI and the Maritimes will be featured\, along with a large craft fair and makers’ market\, a rollicking KidZone\, and a licensed musical entertainment zone.\nJoin us from noon and until 10 p.m. on Friday\, May 22 and again on Saturday from noon until 8:00 p.m.\nIn addition\, patrons will receive free admission to the ACO Canadian Cornhole Classic\, taking place at the Eastlink Centre at the same time. Cornhole is essentially beanbag tossing\, and the Canadian Cornhole Classic will feature multiple divisions for a wide range of competitors\, including both World Ranking Points events and also open divisions available to the general public.\nThe Festival is also a fundraiser for Rotary’s community support projects. A five-dollar daily admission fee ($10 per family) to the food truck festival\, music\, and crafters market will be charged\, with the proceeds going to charitable projects which Rotary supports on Prince Edward Island.\n
URL:https://cfcy.fm/event/charlottetown-food-truck-festival/
CATEGORIES:Arts & Culture
ATTACH;FMTTYPE=image/jpeg:https://cfcy.fm/wp-content/uploads/sites/5/2026/04/food-truck.jpg
END:VEVENT
BEGIN:VEVENT
DTSTART;VALUE=DATE:20260530
DTEND;VALUE=DATE:20260601
DTSTAMP:20260420T083444
CREATED:20260402T120919Z
LAST-MODIFIED:20260402T121255Z
UID:13743-1780099200-1780271999@cfcy.fm
SUMMARY:IG Wealth Management Walk for Alzheimer’s!
DESCRIPTION:\n\n\n\n\n\n\n\n\n\n\n\n\n\n\n\n\n\n\n\n\n\nWill you take the next step? Join us for our annual IG Wealth Management Walk for Alzheimer’s! \n\n\nThis year we’re walking in three communities across PEI:\n Saturday\, May 30 in Summerside and Montague\n Sunday\, May 31 in Charlottetown\n\n\nGetting registered is easy – just follow these four steps:\n Visit www.walkpei.ca\n Choose your region\n Decide how you will participate\n Complete your registration and share your page with friends and family to begin raising funds!\n\n\nTogether\, we can support Islanders living with dementia and the caregivers who walk beside them every day. We can’t wait to see you at the Walk!\n\n\n#IGWalkforAlz #alz #alzheimers #alzheimersawareness #alzheimersociety #alzheimersdisease #dementiacanada #giveback\n\n\n\n\n\n\n\n\n
URL:https://cfcy.fm/event/alzheimer-society-of-prince-edward-island/
CATEGORIES:Benefit,Fundraiser
ATTACH;FMTTYPE=image/jpeg:https://cfcy.fm/wp-content/uploads/sites/5/2026/04/Alzheimners.jpg
END:VEVENT
BEGIN:VEVENT
DTSTART;TZID=America/Halifax:20260613T170000
DTEND;TZID=America/Halifax:20260613T230000
DTSTAMP:20260420T083444
CREATED:20260324T092610Z
LAST-MODIFIED:20260324T092610Z
UID:13706-1781370000-1781391600@cfcy.fm
SUMMARY:The Hoedown Live!
DESCRIPTION:Hosted by Darren MacPherson The Hoedown Live is Back! Join us for a toe-tapping’\, knee-slappin’ good time\, followed by an unforgettable after party with The Ellis Family Band! Doors open at 5pm\, entrance through RED SHORES RACETRACK & CASINO. All tickets $25 plus tax & fees. THIS IS A 19+ Event \n  \npurchase.eastlinkcentrepei.com \n
URL:https://cfcy.fm/event/the-hoedown-live-2/
CATEGORIES:Concerts
ATTACH;FMTTYPE=image/jpeg:https://cfcy.fm/wp-content/uploads/sites/5/2026/03/Hoedown-Live.jpg
END:VEVENT
END:VCALENDAR